BEGIN:VCALENDAR
VERSION:2.0
PRODID:-//wp-events-plugin.com//7.2.3.1//EN
BEGIN:VEVENT
UID:14711@pncfans.com
DTSTART:20251230T000000Z
DTEND:20351218T235900Z
DTSTAMP:20260210T063924Z
URL:https://pncfans.com/events/new-development/
SUMMARY:New Development
DESCRIPTION:New Development is a regular event\, during it you have to use 
 speed-ups for research\, construction and training. The challenge includes
  3 types of awards\, one of which is the Kingdom Rating.\n\nMore informati
 on about it you can find here: New Development - Event
ATTACH;FMTTYPE=image/jpeg:https://pncfans.com/wp-content/uploads/2024/07/n
 ew-development-1.png
CATEGORIES:New Development
END:VEVENT
END:VCALENDAR